BEGIN:VCALENDAR
VERSION:2.0
PRODID:-//wp-events-plugin.com//7.2.3.1//EN
BEGIN:VEVENT
UID:2527@htc-hoofddorp.nl
DTSTART:20260331T190000Z
DTEND:20260331T203000Z
DTSTAMP:20260113T160843Z
URL:https://htc-hoofddorp.nl/events/training-senioren-a-2026-01-13-2026-01
 -20-2026-01-27-2026-02-03-2026-02-10-2026-02-17-2026-02-24-2026-03-03-2026
 -03-10-2026-03-17-2026-03-24-2026-03-31/
SUMMARY:Training Senioren-A
DESCRIPTION:Senioren 1e klasse en hoger
CATEGORIES:Trainingen
END:VEVENT
END:VCALENDAR