BEGIN:VCALENDAR
VERSION:2.0
PRODID:-//wp-events-plugin.com//7.2.3.1//EN
BEGIN:VEVENT
UID:2543@htc-hoofddorp.nl
DTSTART:20260407T173000Z
DTEND:20260407T190000Z
DTSTAMP:20260113T161214Z
URL:https://htc-hoofddorp.nl/events/vrijspelen-jeugd-senioren-4-2026-01-13
 -2026-01-20-2026-01-27-2026-02-03-2026-02-10-2026-02-17-2026-02-24-2026-03
 -03-2026-03-10-2026-03-17-2026-03-24-2026-03-31-2026-04-07/
SUMMARY:Vrijspelen jeugd/senioren
DESCRIPTION:
CATEGORIES:Vrijspelen
END:VEVENT
END:VCALENDAR