BEGIN:VCALENDAR
VERSION:2.0
PRODID:-//wp-events-plugin.com//7.2.3.1//EN
BEGIN:VEVENT
UID:2532@htc-hoofddorp.nl
DTSTART:20260120T173000Z
DTEND:20260120T190000Z
DTSTAMP:20260113T161214Z
URL:https://htc-hoofddorp.nl/events/vrijspelen-jeugd-senioren-4-2026-01-13
 -2026-01-20/
SUMMARY:Vrijspelen jeugd/senioren
DESCRIPTION:
CATEGORIES:Vrijspelen
END:VEVENT
END:VCALENDAR