BEGIN:VCALENDAR
VERSION:2.0
PRODID:-//wp-events-plugin.com//7.2.3.1//EN
BEGIN:VEVENT
UID:2556@htc-hoofddorp.nl
DTSTART:20260324T203000Z
DTEND:20260324T220000Z
DTSTAMP:20260113T161409Z
URL:https://htc-hoofddorp.nl/events/vrijspelen-senioren-6-2026-01-13-2026-
 01-20-2026-01-27-2026-02-03-2026-02-10-2026-02-17-2026-02-24-2026-03-03-20
 26-03-10-2026-03-17-2026-03-24/
SUMMARY:Vrijspelen senioren
DESCRIPTION:
CATEGORIES:Vrijspelen
END:VEVENT
END:VCALENDAR