BEGIN:VCALENDAR
VERSION:2.0
PRODID:-//wp-events-plugin.com//7.2.3.1//EN
BEGIN:VEVENT
UID:2546@htc-hoofddorp.nl
DTSTART:20260113T203000Z
DTEND:20260113T220000Z
DTSTAMP:20260113T161409Z
URL:https://htc-hoofddorp.nl/events/vrijspelen-senioren-6-2026-01-13/
SUMMARY:Vrijspelen senioren
DESCRIPTION:
CATEGORIES:Vrijspelen
END:VEVENT
END:VCALENDAR